BEGIN:VCALENDAR
VERSION:2.0
PRODID:-//Wetzlarer Musikschule Lahn-Dill - ECPv6.15.14//NONSGML v1.0//EN
CALSCALE:GREGORIAN
METHOD:PUBLISH
X-ORIGINAL-URL:https://wetzlarer-musikschule.de
X-WR-CALDESC:Veranstaltungen für Wetzlarer Musikschule Lahn-Dill
REFRESH-INTERVAL;VALUE=DURATION:PT1H
X-Robots-Tag:noindex
X-PUBLISHED-TTL:PT1H
BEGIN:VTIMEZONE
TZID:Europe/Berlin
BEGIN:DAYLIGHT
TZOFFSETFROM:+0100
TZOFFSETTO:+0200
TZNAME:CEST
DTSTART:20250330T010000
END:DAYLIGHT
BEGIN:STANDARD
TZOFFSETFROM:+0200
TZOFFSETTO:+0100
TZNAME:CET
DTSTART:20251026T010000
END:STANDARD
BEGIN:DAYLIGHT
TZOFFSETFROM:+0100
TZOFFSETTO:+0200
TZNAME:CEST
DTSTART:20260329T010000
END:DAYLIGHT
BEGIN:STANDARD
TZOFFSETFROM:+0200
TZOFFSETTO:+0100
TZNAME:CET
DTSTART:20261025T010000
END:STANDARD
BEGIN:DAYLIGHT
TZOFFSETFROM:+0100
TZOFFSETTO:+0200
TZNAME:CEST
DTSTART:20270328T010000
END:DAYLIGHT
BEGIN:STANDARD
TZOFFSETFROM:+0200
TZOFFSETTO:+0100
TZNAME:CET
DTSTART:20271031T010000
END:STANDARD
END:VTIMEZONE
BEGIN:VEVENT
DTSTART;TZID=Europe/Berlin:20260620T170000
DTEND;TZID=Europe/Berlin:20260620T170000
DTSTAMP:20260423T115610
CREATED:20260211T124440Z
LAST-MODIFIED:20260217T101128Z
UID:8493-1781974800-1781974800@wetzlarer-musikschule.de
SUMMARY:Sommerkonzert des Nordkreises
DESCRIPTION:Ein Konzertabend in Kooperation mit der evangelischen Kirchengemeinde Dillenburg und der Wetzlarer Musikschule Lahn-Dill. \nOrt: Evangelisches Gemeindehaus “Zwingel”\nAm Zwingel 3\n35638 Dillenburg \nEintritt ist frei\, wir freuen uns über eine Spende!
URL:https://wetzlarer-musikschule.de/termin/blaeser-sommerkonzert-des-nordkreises/
LOCATION:Evangelisches Gemeindehaus “Zwingel”\, Am Zwingel 3\, Dillenburg\, Hessen\, 35638
CATEGORIES:Termine
ATTACH;FMTTYPE=image/jpeg:https://wetzlarer-musikschule.de/wp-content/uploads/2026/02/Sommerklaenge-im-Zwingel-Konzert-Nordkreis-Dillenburg-Wetzlarer-Musikschule-Lahn-Dill.jpg
ORGANIZER;CN="Wetzlarer Musikschule Lahn-Dill e. V.":MAILTO:info@wetzlarer-musikschule.de
END:VEVENT
END:VCALENDAR