BEGIN:VCALENDAR
VERSION:2.0
PRODID:-//Wetzlarer Musikschule Lahn-Dill - ECPv6.15.14//NONSGML v1.0//EN
CALSCALE:GREGORIAN
METHOD:PUBLISH
X-WR-CALNAME:Wetzlarer Musikschule Lahn-Dill
X-ORIGINAL-URL:https://wetzlarer-musikschule.de
X-WR-CALDESC:Veranstaltungen für Wetzlarer Musikschule Lahn-Dill
REFRESH-INTERVAL;VALUE=DURATION:PT1H
X-Robots-Tag:noindex
X-PUBLISHED-TTL:PT1H
BEGIN:VTIMEZONE
TZID:Europe/Berlin
BEGIN:DAYLIGHT
TZOFFSETFROM:+0100
TZOFFSETTO:+0200
TZNAME:CEST
DTSTART:20250330T010000
END:DAYLIGHT
BEGIN:STANDARD
TZOFFSETFROM:+0200
TZOFFSETTO:+0100
TZNAME:CET
DTSTART:20251026T010000
END:STANDARD
BEGIN:DAYLIGHT
TZOFFSETFROM:+0100
TZOFFSETTO:+0200
TZNAME:CEST
DTSTART:20260329T010000
END:DAYLIGHT
BEGIN:STANDARD
TZOFFSETFROM:+0200
TZOFFSETTO:+0100
TZNAME:CET
DTSTART:20261025T010000
END:STANDARD
BEGIN:DAYLIGHT
TZOFFSETFROM:+0100
TZOFFSETTO:+0200
TZNAME:CEST
DTSTART:20270328T010000
END:DAYLIGHT
BEGIN:STANDARD
TZOFFSETFROM:+0200
TZOFFSETTO:+0100
TZNAME:CET
DTSTART:20271031T010000
END:STANDARD
END:VTIMEZONE
BEGIN:VEVENT
DTSTART;TZID=Europe/Berlin:20260905T100000
DTEND;TZID=Europe/Berlin:20260906T180000
DTSTAMP:20260421T102134
CREATED:20260211T124128Z
LAST-MODIFIED:20260211T124128Z
UID:8527-1788602400-1788717600@wetzlarer-musikschule.de
SUMMARY:Musik Hautnah – Aktionstage 2026
DESCRIPTION:Aktionstage\nTag der offenen Tür / Projekte / Live-Konzert\n05. – 06. September\nSchnupperangebot und Beratung\nAm 05. September öffnen wir parallel zum Brückenfest der Stadt Wetzlar unsere Türen für alle Musikliebhaber! 🏠🎵 Nehmt euch Zeit und kommt vorbei. Ihr habt die Gelegenheit\, unser Haus zu erkunden und alle Instrumente auszuprobieren\, die wir hier anbieten. Eine Anmeldung ist nicht erforderlich! Einfach reinkommen\, umschauen und unsere sympathischen Lehrkräfte nach ihren Erfahrungen mit den Instrumenten fragen. \nEs erwarten euch Konzerte und Projekte in und vor unserem Haus der Musik. \nAm 06. September geht es während dem Kartoffelfest der Lebenshilfe musikalisch weiter. Das genaue Programm wird noch bekannt gegeben. \nMarkiert euch die Daten im Kalender und sagt es euren Freunden\, Verwandten und Kollegen weiter! Gemeinsam möchten wir das Haus der Musik mit Leben füllen und unvergessliche musikalische Momente erleben. 💫
URL:https://wetzlarer-musikschule.de/termin/musik-hautnah-aktionstage-2026/
LOCATION:Wetzlarer Musikschule Lahn-Dill (Wetzlar)\, Am Schillerplatz 8\, Wetzlar\, Hessen\, 35578\, Deutschland
ATTACH;FMTTYPE=image/jpeg:https://wetzlarer-musikschule.de/wp-content/uploads/2026/02/Aktionstage-2026-1.jpg
ORGANIZER;CN="Wetzlarer Musikschule Lahn-Dill e. V.":MAILTO:info@wetzlarer-musikschule.de
END:VEVENT
END:VCALENDAR